BEGIN:VCALENDAR
VERSION:2.0
PRODID:hinto.net
X-PUBLISHED-TTL:P1W
BEGIN:VEVENT
UID:hinto.net-event_show-6933300
DTSTART:20260516T230000
SEQUENCE:0
CREATED:20260422T052201
LAST-MODIFIED:20260422T052201
TRANSP:OPAQUE
DTEND:20260517T040000
LOCATION:Jade Club
SUMMARY:Ying & Yang
CLASS:PUBLIC
DESCRIPTION:
ORGANIZER:
DTSTAMP:20260424T195020
ATTACH:https://www.hinto.ch/de/events/ying-yang-16-05-2026-2300-jade-club-zuerich-e2854478-20.html
END:VEVENT
END:VCALENDAR
