BEGIN:VCALENDAR
VERSION:2.0
PRODID:hinto.net
X-PUBLISHED-TTL:P1W
BEGIN:VEVENT
UID:hinto.net-event_show-6856442
DTSTART:20260417T180000
SEQUENCE:0
CREATED:20260327T231045
LAST-MODIFIED:20260327T231045
TRANSP:OPAQUE
DTEND:20260417T190000
LOCATION:
SUMMARY:ZDF: SOKO Wien
CLASS:PUBLIC
DESCRIPTION:
ORGANIZER:
DTSTAMP:20260419T183056
ATTACH:https://www.hinto.ch/de/events/zdf-soko-wien-17-04-2026-1800-e2787621-20.html
END:VEVENT
END:VCALENDAR
