BEGIN:VCALENDAR
VERSION:2.0
PRODID:hinto.net
X-PUBLISHED-TTL:P1W
BEGIN:VEVENT
UID:hinto.net-event_show-6930707
DTSTART:20260425T200000
SEQUENCE:0
CREATED:20260421T031219
LAST-MODIFIED:20260421T031219
TRANSP:OPAQUE

LOCATION:Nelson Pub
SUMMARY:Partynator
CLASS:PUBLIC
DESCRIPTION:
ORGANIZER:
DTSTAMP:20260421T093030
ATTACH:https://www.hinto.ch/de/events/partynator-25-04-2026-2000-nelson-pub-zuerich-e2852095-20.html
END:VEVENT
END:VCALENDAR
