BEGIN:VCALENDAR
VERSION:2.0
PRODID:hinto.net
X-PUBLISHED-TTL:P1W
BEGIN:VEVENT
UID:hinto.net-event_show-6930666
DTSTART:20260519T200000
SEQUENCE:0
CREATED:20260421T031014
LAST-MODIFIED:20260421T031014
TRANSP:OPAQUE

LOCATION:Musical Theater Basel
SUMMARY:Schwanensee
CLASS:PUBLIC
DESCRIPTION:
ORGANIZER:
DTSTAMP:20260421T075359
ATTACH:https://www.hinto.ch/de/events/schwanensee-19-05-2026-2000-musical-theater-basel-basel-e2852060-20.html
END:VEVENT
END:VCALENDAR
