BEGIN:VCALENDAR
VERSION:2.0
PRODID:hinto.net
X-PUBLISHED-TTL:P1W
BEGIN:VEVENT
UID:hinto.net-event_show-6667129
DTSTART:20260509T100000
SEQUENCE:0
CREATED:20260129T074418
LAST-MODIFIED:20260129T074418
TRANSP:OPAQUE
DTEND:20260509T120000
LOCATION:Kunsthaus Langenthal
SUMMARY:Kinderclub – Logisch, oder?
CLASS:PUBLIC
DESCRIPTION:
ORGANIZER:
DTSTAMP:20260425T032121
ATTACH:https://www.hinto.ch/de/events/kinderclub-n-logisch-oder-09-05-2026-1000-kunsthaus-langenthal-langenthal-e2636803-20.html
END:VEVENT
END:VCALENDAR
