BEGIN:VCALENDAR
VERSION:2.0
PRODID:hinto.net
X-PUBLISHED-TTL:P1W
BEGIN:VEVENT
UID:hinto.net-event_show-6929887
DTSTART:20260501T210000
SEQUENCE:0
CREATED:20260420T222255
LAST-MODIFIED:20260420T222255
TRANSP:OPAQUE

LOCATION:AMR
SUMMARY:Maurice Magnoni présente iNiT
CLASS:PUBLIC
DESCRIPTION:
ORGANIZER:
DTSTAMP:20260424T035556
ATTACH:https://www.hinto.ch/de/events/maurice-magnoni-presente-init-01-05-2026-2100-amr-geneve-e2851753-20.html
END:VEVENT
END:VCALENDAR
