BEGIN:VCALENDAR
VERSION:2.0
PRODID:hinto.net
X-PUBLISHED-TTL:P1W
BEGIN:VEVENT
UID:hinto.net-event_show-6933684
DTSTART:20260424T163000
SEQUENCE:0
CREATED:20260422T052558
LAST-MODIFIED:20260422T052558
TRANSP:OPAQUE
DTEND:20260424T183000
LOCATION:ROXY Birsfelden
SUMMARY:Number 52
CLASS:PUBLIC
DESCRIPTION:
ORGANIZER:
DTSTAMP:20260424T121556
ATTACH:https://www.hinto.ch/de/events/number-52-24-04-2026-1630-roxy-birsfelden-birsfelden-e2854605-20.html
END:VEVENT
END:VCALENDAR
