BEGIN:VCALENDAR
VERSION:2.0
PRODID:hinto.net
X-PUBLISHED-TTL:P1W
BEGIN:VEVENT
UID:hinto.net-event_show-6758051
DTSTART:20260704T220000
SEQUENCE:0
CREATED:20260228T051232
LAST-MODIFIED:20260228T051232
TRANSP:OPAQUE
DTEND:20260704T221800
LOCATION:Seepromenade
SUMMARY:Zug Magic
CLASS:PUBLIC
DESCRIPTION:
ORGANIZER:
DTSTAMP:20260421T074241
ATTACH:https://www.hinto.ch/de/events/zug-magic-04-07-2026-2200-seepromenade-zug-e2707909-20.html
END:VEVENT
END:VCALENDAR
