BEGIN:VCALENDAR
VERSION:2.0
PRODID:hinto.net
X-PUBLISHED-TTL:P1W
BEGIN:VEVENT
UID:hinto.net-event_show-6942192
DTSTART:20260608T160000
SEQUENCE:0
CREATED:20260423T090833
LAST-MODIFIED:20260423T090833
TRANSP:OPAQUE
DTEND:20260608T183000
LOCATION:Berner GenerationenHaus
SUMMARY:amm Café Med
CLASS:PUBLIC
DESCRIPTION:
ORGANIZER:
DTSTAMP:20260424T182917
ATTACH:https://www.hinto.ch/de/events/amm-cafe-med-08-06-2026-1600-berner-generationenhaus-bern-e2857347-20.html
END:VEVENT
END:VCALENDAR
