BEGIN:VCALENDAR
VERSION:2.0
PRODID:hinto.net
X-PUBLISHED-TTL:P1W
BEGIN:VEVENT
UID:hinto.net-event_show-6941894
DTSTART:20260426T170000
SEQUENCE:0
CREATED:20260423T031916
LAST-MODIFIED:20260423T031916
TRANSP:OPAQUE

LOCATION:Klangkeller Bern
SUMMARY:Klang-Meditation
CLASS:PUBLIC
DESCRIPTION:
ORGANIZER:
DTSTAMP:20260425T032046
ATTACH:https://www.hinto.ch/de/events/klang-meditation-26-04-2026-1700-klangkeller-bern-bern-e1650551-20.html
END:VEVENT
END:VCALENDAR
