BEGIN:VCALENDAR
VERSION:2.0
PRODID:hinto.net
X-PUBLISHED-TTL:P1W
BEGIN:VEVENT
UID:hinto.net-event_show-6927957
DTSTART:20260531T190000
SEQUENCE:0
CREATED:20260420T132124
LAST-MODIFIED:20260420T132124
TRANSP:OPAQUE
DTEND:20260531T190000
LOCATION:Berner GenerationenHaus
SUMMARY:Moonlight Prayer
CLASS:PUBLIC
DESCRIPTION:
ORGANIZER:
DTSTAMP:20260421T031051
ATTACH:https://www.hinto.ch/de/events/moonlight-prayer-31-05-2026-1900-berner-generationenhaus-bern-e2849897-20.html
END:VEVENT
END:VCALENDAR
