BEGIN:VCALENDAR
VERSION:2.0
PRODID:hinto.net
X-PUBLISHED-TTL:P1W
BEGIN:VEVENT
UID:hinto.net-event_show-6929859
DTSTART:20260425T183000
SEQUENCE:0
CREATED:20260420T222246
LAST-MODIFIED:20260420T222246
TRANSP:OPAQUE
DTEND:20260425T214500
LOCATION:Parc Cafe Innere Enge
SUMMARY:RINAT FISHMAN GROUP
CLASS:PUBLIC
DESCRIPTION:
ORGANIZER:
DTSTAMP:20260421T074007
ATTACH:https://www.hinto.ch/de/events/rinat-fishman-group-25-04-2026-1830-parc-cafe-innere-enge-bern-e2839239-20.html
END:VEVENT
END:VCALENDAR
