BEGIN:VCALENDAR
VERSION:2.0
PRODID:hinto.net
X-PUBLISHED-TTL:P1W
BEGIN:VEVENT
UID:hinto.net-event_show-6924711
DTSTART:20260424T200000
SEQUENCE:0
CREATED:20260419T051709
LAST-MODIFIED:20260419T051709
TRANSP:OPAQUE

LOCATION:CineABC
SUMMARY:SPECIAL: EVERYTHING EVERYWHERE ALL AT ONCE
CLASS:PUBLIC
DESCRIPTION:
ORGANIZER:
DTSTAMP:20260420T003008
ATTACH:https://www.hinto.ch/de/events/special-everything-everywhere-all-at-once-24-04-2026-2000-cineabc-bern-e2746583-20.html
END:VEVENT
END:VCALENDAR
