BEGIN:VCALENDAR
VERSION:2.0
PRODID:hinto.net
X-PUBLISHED-TTL:P1W
BEGIN:VEVENT
UID:hinto.net-event_show-6930132
DTSTART:20260425T110000
SEQUENCE:0
CREATED:20260420T222420
LAST-MODIFIED:20260420T222420
TRANSP:OPAQUE

LOCATION:Stadttheater Solothurn
SUMMARY:3.Bébékonzert: Im Spinnennetz
CLASS:PUBLIC
DESCRIPTION:
ORGANIZER:
DTSTAMP:20260424T050656
ATTACH:https://www.hinto.ch/de/events/3-bebekonzert-im-spinnennetz-25-04-2026-1100-stadttheater-solothurn-solothurn-e2851917-20.html
END:VEVENT
END:VCALENDAR
