BEGIN:VCALENDAR
VERSION:2.0
PRODID:hinto.net
X-PUBLISHED-TTL:P1W
BEGIN:VEVENT
UID:hinto.net-event_show-6877127
DTSTART:20260506T160000
SEQUENCE:0
CREATED:20260403T024821
LAST-MODIFIED:20260403T024821
TRANSP:OPAQUE
DTEND:20260506T190000
LOCATION:Stage19
SUMMARY:60plus Disco
CLASS:PUBLIC
DESCRIPTION:
ORGANIZER:
DTSTAMP:20260421T065431
ATTACH:https://www.hinto.ch/de/events/60plus-disco-06-05-2026-1600-stage19-au-sg-e2805076-20.html
END:VEVENT
END:VCALENDAR
