BEGIN:VCALENDAR
VERSION:2.0
PRODID:hinto.net
X-PUBLISHED-TTL:P1W
BEGIN:VEVENT
UID:hinto.net-event_show-6933302
DTSTART:20260516T230000
SEQUENCE:0
CREATED:20260422T052202
LAST-MODIFIED:20260422T052202
TRANSP:OPAQUE
DTEND:20260517T050000
LOCATION:Kaschemme
SUMMARY:9 YEARS INDIE ROCK!
CLASS:PUBLIC
DESCRIPTION:
ORGANIZER:
DTSTAMP:20260425T004014
ATTACH:https://www.hinto.ch/de/events/9-years-indie-rock!-16-05-2026-2300-kaschemme-basel-e2854480-20.html
END:VEVENT
END:VCALENDAR
