BEGIN:VCALENDAR
VERSION:2.0
PRODID:hinto.net
X-PUBLISHED-TTL:P1W
BEGIN:VEVENT
UID:hinto.net-event_show-6862743
DTSTART:20260419T191500
SEQUENCE:0
CREATED:20260329T150549
LAST-MODIFIED:20260329T150549
TRANSP:OPAQUE
DTEND:20260419T200000
LOCATION:
SUMMARY:ARD: Sportschau
CLASS:PUBLIC
DESCRIPTION:
ORGANIZER:
DTSTAMP:20260420T055347
ATTACH:https://www.hinto.ch/de/events/ard-sportschau-19-04-2026-1915-e2793359-20.html
END:VEVENT
END:VCALENDAR
