BEGIN:VCALENDAR
VERSION:2.0
PRODID:hinto.net
X-PUBLISHED-TTL:P1W
BEGIN:VEVENT
UID:hinto.net-event_show-6863698
DTSTART:20260419T120000
SEQUENCE:0
CREATED:20260329T155610
LAST-MODIFIED:20260329T155610
TRANSP:OPAQUE
DTEND:20260419T124500
LOCATION:
SUMMARY:BR: quer
CLASS:PUBLIC
DESCRIPTION:
ORGANIZER:
DTSTAMP:20260420T085647
ATTACH:https://www.hinto.ch/de/events/br-quer-19-04-2026-1200-e2794314-20.html
END:VEVENT
END:VCALENDAR
