BEGIN:VCALENDAR
VERSION:2.0
PRODID:hinto.net
X-PUBLISHED-TTL:P1W
BEGIN:VEVENT
UID:hinto.net-event_show-6863710
DTSTART:20260419T191500
SEQUENCE:0
CREATED:20260329T155705
LAST-MODIFIED:20260329T155705
TRANSP:OPAQUE
DTEND:20260419T200000
LOCATION:
SUMMARY:BR: Unter unserem Himmel
CLASS:PUBLIC
DESCRIPTION:
ORGANIZER:
DTSTAMP:20260420T095058
ATTACH:https://www.hinto.ch/de/events/br-unter-unserem-himmel-19-04-2026-1915-e2794326-20.html
END:VEVENT
END:VCALENDAR
