BEGIN:VCALENDAR
VERSION:2.0
PRODID:hinto.net
X-PUBLISHED-TTL:P1W
BEGIN:VEVENT
UID:hinto.net-event_show-1406333
DTSTART:20220327T110000
SEQUENCE:0
CREATED:20220127T201841
LAST-MODIFIED:20220127T201841
TRANSP:OPAQUE
DTEND:20220327T160000
LOCATION:Villa Stucki
SUMMARY:clothes flea
CLASS:PUBLIC
DESCRIPTION:
ORGANIZER:
DTSTAMP:20260419T234103
ATTACH:https://www.hinto.ch/de/events/kleiderflohmi-27-03-2022-1100-villa-stucki-bern-e122506-20.html
END:VEVENT
END:VCALENDAR
