BEGIN:VCALENDAR
VERSION:2.0
PRODID:hinto.net
X-PUBLISHED-TTL:P1W
BEGIN:VEVENT
UID:hinto.net-event_show-6725743
DTSTART:20260922T200000
SEQUENCE:0
CREATED:20260217T154052
LAST-MODIFIED:20260217T154052
TRANSP:OPAQUE
DTEND:20260922T000000
LOCATION:Fauteuil
SUMMARY:Die Impronauten
CLASS:PUBLIC
DESCRIPTION:
ORGANIZER:
DTSTAMP:20260419T211605
ATTACH:https://www.hinto.ch/de/events/die-impronauten-22-09-2026-2000-fauteuil-basel-e1217971-20.html
END:VEVENT
END:VCALENDAR
