BEGIN:VCALENDAR
VERSION:2.0
PRODID:hinto.net
X-PUBLISHED-TTL:P1W
BEGIN:VEVENT
UID:hinto.net-event_show-6924830
DTSTART:20260512T150000
SEQUENCE:0
CREATED:20260419T051911
LAST-MODIFIED:20260419T051911
TRANSP:OPAQUE

LOCATION:Vorarlberg Museum
SUMMARY:Erzählcafé
CLASS:PUBLIC
DESCRIPTION:
ORGANIZER:
DTSTAMP:20260421T071646
ATTACH:https://www.hinto.ch/de/events/erzaehlcafe-12-05-2026-1500-vorarlberg-museum-bregenz-e2847161-20.html
END:VEVENT
END:VCALENDAR
