BEGIN:VCALENDAR
VERSION:2.0
PRODID:hinto.net
X-PUBLISHED-TTL:P1W
BEGIN:VEVENT
UID:hinto.net-event_show-6888912
DTSTART:20260423T190000
SEQUENCE:0
CREATED:20260407T025306
LAST-MODIFIED:20260407T025306
TRANSP:OPAQUE

LOCATION:
SUMMARY:FORAMA AND?!
CLASS:PUBLIC
DESCRIPTION:
ORGANIZER:
DTSTAMP:20260419T195940
ATTACH:https://www.hinto.ch/de/events/forama-and!-23-04-2026-1900-e2815319-20.html
END:VEVENT
END:VCALENDAR
