BEGIN:VCALENDAR
VERSION:2.0
PRODID:hinto.net
X-PUBLISHED-TTL:P1W
BEGIN:VEVENT
UID:hinto.net-event_show-6765029
DTSTART:20260429T190000
SEQUENCE:0
CREATED:20260302T045855
LAST-MODIFIED:20260302T045855
TRANSP:OPAQUE
DTEND:20260715T210000
LOCATION:Heimat
SUMMARY:FREQUENZ9:
CLASS:PUBLIC
DESCRIPTION:
ORGANIZER:
DTSTAMP:20260420T080907
ATTACH:https://www.hinto.ch/de/events/frequenz9-29-04-2026-1900-heimat-basel-e2721869-20.html
END:VEVENT
END:VCALENDAR
