BEGIN:VCALENDAR
VERSION:2.0
PRODID:hinto.net
X-PUBLISHED-TTL:P1W
BEGIN:VEVENT
UID:hinto.net-event_show-6663776
DTSTART:20261028T203000
SEQUENCE:0
CREATED:20260128T032412
LAST-MODIFIED:20260128T032412
TRANSP:OPAQUE

LOCATION:Werk 1
SUMMARY:Gery
CLASS:PUBLIC
DESCRIPTION:
ORGANIZER:
DTSTAMP:20260419T202949
ATTACH:https://www.hinto.ch/de/events/gery-28-10-2026-2030-werk-1-gossau-sg-e2634097-20.html
END:VEVENT
END:VCALENDAR
