BEGIN:VCALENDAR
VERSION:2.0
PRODID:hinto.net
X-PUBLISHED-TTL:P1W
BEGIN:VEVENT
UID:hinto.net-event_show-6930457
DTSTART:20260531T093000
SEQUENCE:0
CREATED:20260421T030944
LAST-MODIFIED:20260421T030944
TRANSP:OPAQUE

LOCATION:Alte Stuhlfabrik
SUMMARY:Goofetheater
CLASS:PUBLIC
DESCRIPTION:
ORGANIZER:
DTSTAMP:20260424T220415
ATTACH:https://www.hinto.ch/de/events/goofetheater-31-05-2026-0930-alte-stuhlfabrik-herisau-e2851999-20.html
END:VEVENT
END:VCALENDAR
