BEGIN:VCALENDAR
VERSION:2.0
PRODID:hinto.net
X-PUBLISHED-TTL:P1W
BEGIN:VEVENT
UID:hinto.net-event_show-6671621
DTSTART:20260822T093000
SEQUENCE:0
CREATED:20260130T045936
LAST-MODIFIED:20260130T045936
TRANSP:OPAQUE
DTEND:20260823T171500
LOCATION:Kloster Einsiedeln
SUMMARY:Gregorianik Workshop
CLASS:PUBLIC
DESCRIPTION:
ORGANIZER:
DTSTAMP:20260421T060116
ATTACH:https://www.hinto.ch/de/events/gregorianik-workshop-22-08-2026-0930-kloster-einsiedeln-einsiedeln-e2640829-20.html
END:VEVENT
END:VCALENDAR
