BEGIN:VCALENDAR
VERSION:2.0
PRODID:hinto.net
X-PUBLISHED-TTL:P1W
BEGIN:VEVENT
UID:hinto.net-event_show-6904436
DTSTART:20260510T140000
SEQUENCE:0
CREATED:20260412T054310
LAST-MODIFIED:20260412T054310
TRANSP:OPAQUE

LOCATION:Z7
SUMMARY:Heavysaurus
CLASS:PUBLIC
DESCRIPTION:
ORGANIZER:
DTSTAMP:20260419T192950
ATTACH:https://www.hinto.ch/de/events/heavysaurus-10-05-2026-1400-z7-prattelen-e2829470-20.html
END:VEVENT
END:VCALENDAR
