BEGIN:VCALENDAR
VERSION:2.0
PRODID:hinto.net
X-PUBLISHED-TTL:P1W
BEGIN:VEVENT
UID:hinto.net-event_show-6862987
DTSTART:20260419T170000
SEQUENCE:0
CREATED:20260329T152022
LAST-MODIFIED:20260329T152022
TRANSP:OPAQUE
DTEND:20260419T172500
LOCATION:
SUMMARY:KiKa: 1, 2 oder 3
CLASS:PUBLIC
DESCRIPTION:
ORGANIZER:
DTSTAMP:20260419T213037
ATTACH:https://www.hinto.ch/de/events/kika-1-2-oder-3-19-04-2026-1700-e2793603-20.html
END:VEVENT
END:VCALENDAR
