BEGIN:VCALENDAR
VERSION:2.0
PRODID:hinto.net
X-PUBLISHED-TTL:P1W
BEGIN:VEVENT
UID:hinto.net-event_show-6619657
DTSTART:20260606T171500
SEQUENCE:0
CREATED:20260114T064138
LAST-MODIFIED:20260114T064138
TRANSP:OPAQUE
DTEND:20260606T183000
LOCATION:Kloster Einsiedeln
SUMMARY:Klang der Stille I
CLASS:PUBLIC
DESCRIPTION:
ORGANIZER:
DTSTAMP:20260421T022013
ATTACH:https://www.hinto.ch/de/events/klang-der-stille-i-06-06-2026-1715-kloster-einsiedeln-einsiedeln-e2598603-20.html
END:VEVENT
END:VCALENDAR
