BEGIN:VCALENDAR
VERSION:2.0
PRODID:hinto.net
X-PUBLISHED-TTL:P1W
BEGIN:VEVENT
UID:hinto.net-event_show-6871699
DTSTART:20260419T192000
SEQUENCE:0
CREATED:20260416T220326
LAST-MODIFIED:20260416T220326
TRANSP:OPAQUE
DTEND:20260419T195333
LOCATION:
SUMMARY:La 1: Lo Specchio
CLASS:PUBLIC
DESCRIPTION:
ORGANIZER:
DTSTAMP:20260420T010326
ATTACH:https://www.hinto.ch/de/events/la-1-lo-specchio-19-04-2026-1920-e2800103-20.html
END:VEVENT
END:VCALENDAR
