BEGIN:VCALENDAR
VERSION:2.0
PRODID:hinto.net
X-PUBLISHED-TTL:P1W
BEGIN:VEVENT
UID:hinto.net-event_show-6866995
DTSTART:20261112T200000
SEQUENCE:0
CREATED:20260331T023958
LAST-MODIFIED:20260331T023958
TRANSP:OPAQUE

LOCATION:Exil
SUMMARY:Lava & Ash
CLASS:PUBLIC
DESCRIPTION:
ORGANIZER:
DTSTAMP:20260420T003021
ATTACH:https://www.hinto.ch/de/events/lava-ash-12-11-2026-2000-exil-zuerich-e2797076-20.html
END:VEVENT
END:VCALENDAR
