BEGIN:VCALENDAR
VERSION:2.0
PRODID:hinto.net
X-PUBLISHED-TTL:P1W
BEGIN:VEVENT
UID:hinto.net-event_show-6924999
DTSTART:20260611T150000
SEQUENCE:0
CREATED:20260419T051941
LAST-MODIFIED:20260419T051941
TRANSP:OPAQUE
DTEND:20260611T173000
LOCATION:tiRumpel
SUMMARY:Maitli*treff
CLASS:PUBLIC
DESCRIPTION:
ORGANIZER:
DTSTAMP:20260421T072300
ATTACH:https://www.hinto.ch/de/events/maitlitreff-11-06-2026-1500-tirumpel-st-gallen-e2847258-20.html
END:VEVENT
END:VCALENDAR
