BEGIN:VCALENDAR
VERSION:2.0
PRODID:hinto.net
X-PUBLISHED-TTL:P1W
BEGIN:VEVENT
UID:hinto.net-event_show-6924994
DTSTART:20260430T150000
SEQUENCE:0
CREATED:20260419T051941
LAST-MODIFIED:20260419T051941
TRANSP:OPAQUE
DTEND:20260430T173000
LOCATION:tiRumpel
SUMMARY:Maitli*treff
CLASS:PUBLIC
DESCRIPTION:
ORGANIZER:
DTSTAMP:20260420T222304
ATTACH:https://www.hinto.ch/de/events/maitlitreff-30-04-2026-1500-tirumpel-st-gallen-e2847258-20.html
END:VEVENT
END:VCALENDAR
