BEGIN:VCALENDAR
VERSION:2.0
PRODID:hinto.net
X-PUBLISHED-TTL:P1W
BEGIN:VEVENT
UID:hinto.net-event_show-6814902
DTSTART:20260417T090000
SEQUENCE:0
CREATED:20260314T035901
LAST-MODIFIED:20260314T035901
TRANSP:OPAQUE

LOCATION:Stadtkino Basel
SUMMARY:Mewi-Symposium
CLASS:PUBLIC
DESCRIPTION:
ORGANIZER:
DTSTAMP:20260419T191944
ATTACH:https://www.hinto.ch/de/events/mewi-symposium-17-04-2026-0900-stadtkino-basel-basel-e2753093-20.html
END:VEVENT
END:VCALENDAR
