BEGIN:VCALENDAR
VERSION:2.0
PRODID:hinto.net
X-PUBLISHED-TTL:P1W
BEGIN:VEVENT
UID:hinto.net-event_show-6925518
DTSTART:20260501T200000
SEQUENCE:0
CREATED:20260419T052240
LAST-MODIFIED:20260419T052240
TRANSP:OPAQUE

LOCATION:Conrad Sohm
SUMMARY:Moby Dick
CLASS:PUBLIC
DESCRIPTION:
ORGANIZER:
DTSTAMP:20260419T184407
ATTACH:https://www.hinto.ch/de/events/moby-dick-01-05-2026-2000-conrad-sohm-dornbirn-e2847559-20.html
END:VEVENT
END:VCALENDAR
