BEGIN:VCALENDAR
VERSION:2.0
PRODID:hinto.net
X-PUBLISHED-TTL:P1W
BEGIN:VEVENT
UID:hinto.net-event_show-6443401
DTSTART:20260616T193000
SEQUENCE:0
CREATED:20251115T024522
LAST-MODIFIED:20251115T024522
TRANSP:OPAQUE
DTEND:20260616T213000
LOCATION:Theater Basel
SUMMARY:Moby Dick – das Solo
CLASS:PUBLIC
DESCRIPTION:
ORGANIZER:
DTSTAMP:20260419T200924
ATTACH:https://www.hinto.ch/de/events/moby-dick-n-das-solo-16-06-2026-1930-theater-basel-basel-e131107-20.html
END:VEVENT
END:VCALENDAR
