BEGIN:VCALENDAR
VERSION:2.0
PRODID:hinto.net
X-PUBLISHED-TTL:P1W
BEGIN:VEVENT
UID:hinto.net-event_show-6671669
DTSTART:20260425T143000
SEQUENCE:0
CREATED:20260130T045941
LAST-MODIFIED:20260130T045941
TRANSP:OPAQUE
DTEND:20260425T153500
LOCATION:Gemeindehaus
SUMMARY:Muggli, dr Waldtroll
CLASS:PUBLIC
DESCRIPTION:
ORGANIZER:
DTSTAMP:20260419T224802
ATTACH:https://www.hinto.ch/de/events/muggli-dr-waldtroll-25-04-2026-1430-gemeindehaus-reinach-e2640834-20.html
END:VEVENT
END:VCALENDAR
