BEGIN:VCALENDAR
VERSION:2.0
PRODID:hinto.net
X-PUBLISHED-TTL:P1W
BEGIN:VEVENT
UID:hinto.net-event_show-6930442
DTSTART:20260503T100000
SEQUENCE:0
CREATED:20260421T030943
LAST-MODIFIED:20260421T030943
TRANSP:OPAQUE

LOCATION:Alte Stuhlfabrik
SUMMARY:Nomal!
CLASS:PUBLIC
DESCRIPTION:
ORGANIZER:
DTSTAMP:20260424T134840
ATTACH:https://www.hinto.ch/de/events/nomal!-03-05-2026-1000-alte-stuhlfabrik-herisau-e2851997-20.html
END:VEVENT
END:VCALENDAR
