BEGIN:VCALENDAR
VERSION:2.0
PRODID:hinto.net
X-PUBLISHED-TTL:P1W
BEGIN:VEVENT
UID:hinto.net-event_show-6862850
DTSTART:20260419T190000
SEQUENCE:0
CREATED:20260329T151107
LAST-MODIFIED:20260329T151107
TRANSP:OPAQUE
DTEND:20260419T191700
LOCATION:
SUMMARY:ORF 2: Bundesland heute
CLASS:PUBLIC
DESCRIPTION:
ORGANIZER:
DTSTAMP:20260420T073317
ATTACH:https://www.hinto.ch/de/events/orf-2-bundesland-heute-19-04-2026-1900-e2793466-20.html
END:VEVENT
END:VCALENDAR
