BEGIN:VCALENDAR
VERSION:2.0
PRODID:hinto.net
X-PUBLISHED-TTL:P1W
BEGIN:VEVENT
UID:hinto.net-event_show-6862856
DTSTART:20260419T201500
SEQUENCE:0
CREATED:20260329T151228
LAST-MODIFIED:20260329T151228
TRANSP:OPAQUE
DTEND:20260419T215000
LOCATION:
SUMMARY:ORF 2: Tatort
CLASS:PUBLIC
DESCRIPTION:
ORGANIZER:
DTSTAMP:20260420T091003
ATTACH:https://www.hinto.ch/de/events/orf-2-tatort-19-04-2026-2015-e2793472-20.html
END:VEVENT
END:VCALENDAR
