BEGIN:VCALENDAR
VERSION:2.0
PRODID:hinto.net
X-PUBLISHED-TTL:P1W
BEGIN:VEVENT
UID:hinto.net-event_show-5464097
DTSTART:20280102T100000
SEQUENCE:0
CREATED:20250102T050550
LAST-MODIFIED:20250102T050550
TRANSP:OPAQUE
DTEND:20280102T170000
LOCATION:Museum Luzern
SUMMARY:Blickwinkel-Kabinett
CLASS:PUBLIC
DESCRIPTION:
ORGANIZER:
DTSTAMP:20260424T052612
ATTACH:https://www.hinto.ch/de/events/blickwinkel-kabinett-02-01-2028-1000-museum-luzern-luzern-e280769-20.html
END:VEVENT
END:VCALENDAR
