BEGIN:VCALENDAR
VERSION:2.0
PRODID:hinto.net
X-PUBLISHED-TTL:P1W
BEGIN:VEVENT
UID:hinto.net-event_show-5191145
DTSTART:20271112T100000
SEQUENCE:0
CREATED:20241112T110808
LAST-MODIFIED:20241112T110808
TRANSP:OPAQUE
DTEND:20271112T170000
LOCATION:Museum Luzern
SUMMARY:Blickwinkel-Kabinett
CLASS:PUBLIC
DESCRIPTION:
ORGANIZER:
DTSTAMP:20260424T034818
ATTACH:https://www.hinto.ch/de/events/blickwinkel-kabinett-12-11-2027-1000-museum-luzern-luzern-e280769-20.html
END:VEVENT
END:VCALENDAR
