BEGIN:VCALENDAR
VERSION:2.0
PRODID:hinto.net
X-PUBLISHED-TTL:P1W
BEGIN:VEVENT
UID:hinto.net-event_show-5095060
DTSTART:20271023T100000
SEQUENCE:0
CREATED:20241023T054706
LAST-MODIFIED:20241023T054706
TRANSP:OPAQUE
DTEND:20271023T170000
LOCATION:Museum Luzern
SUMMARY:Blickwinkel-Kabinett
CLASS:PUBLIC
DESCRIPTION:
ORGANIZER:
DTSTAMP:20260424T165011
ATTACH:https://www.hinto.ch/de/events/blickwinkel-kabinett-23-10-2027-1000-museum-luzern-luzern-e280769-20.html
END:VEVENT
END:VCALENDAR
