BEGIN:VCALENDAR
VERSION:2.0
PRODID:hinto.net
X-PUBLISHED-TTL:P1W
BEGIN:VEVENT
UID:hinto.net-event_show-4718449
DTSTART:20270826T100000
SEQUENCE:0
CREATED:20240826T171630
LAST-MODIFIED:20240826T171630
TRANSP:OPAQUE
DTEND:20270826T170000
LOCATION:Museum Luzern
SUMMARY:Blickwinkel-Kabinett
CLASS:PUBLIC
DESCRIPTION:
ORGANIZER:
DTSTAMP:20260424T165011
ATTACH:https://www.hinto.ch/de/events/blickwinkel-kabinett-26-08-2027-1000-museum-luzern-luzern-e280769-20.html
END:VEVENT
END:VCALENDAR
