BEGIN:VCALENDAR
VERSION:2.0
PRODID:hinto.net
X-PUBLISHED-TTL:P1W
BEGIN:VEVENT
UID:hinto.net-event_show-5115982
DTSTART:20271027T100000
SEQUENCE:0
CREATED:20241027T043436
LAST-MODIFIED:20241027T043436
TRANSP:OPAQUE
DTEND:20271027T170000
LOCATION:Museum Luzern
SUMMARY:Blickwinkel-Kabinett
CLASS:PUBLIC
DESCRIPTION:
ORGANIZER:
DTSTAMP:20260421T101940
ATTACH:https://www.hinto.ch/de/events/blickwinkel-kabinett-27-10-2027-1000-museum-luzern-luzern-e280769-20.html
END:VEVENT
END:VCALENDAR
