BEGIN:VCALENDAR
VERSION:2.0
PRODID:hinto.net
X-PUBLISHED-TTL:P1W
BEGIN:VEVENT
UID:hinto.net-event_show-5431548
DTSTART:20271228T100000
SEQUENCE:0
CREATED:20241228T052808
LAST-MODIFIED:20241228T052808
TRANSP:OPAQUE
DTEND:20271228T170000
LOCATION:Museum Luzern
SUMMARY:Blickwinkel-Kabinett
CLASS:PUBLIC
DESCRIPTION:
ORGANIZER:
DTSTAMP:20260424T143145
ATTACH:https://www.hinto.ch/de/events/blickwinkel-kabinett-28-12-2027-1000-museum-luzern-luzern-e280769-20.html
END:VEVENT
END:VCALENDAR
