BEGIN:VCALENDAR
VERSION:2.0
PRODID:hinto.net
X-PUBLISHED-TTL:P1W
BEGIN:VEVENT
UID:hinto.net-event_show-4985271
DTSTART:20270930T100000
SEQUENCE:0
CREATED:20240930T062121
LAST-MODIFIED:20240930T062121
TRANSP:OPAQUE
DTEND:20270930T170000
LOCATION:Museum Luzern
SUMMARY:Blickwinkel-Kabinett
CLASS:PUBLIC
DESCRIPTION:
ORGANIZER:
DTSTAMP:20260424T075139
ATTACH:https://www.hinto.ch/de/events/blickwinkel-kabinett-30-09-2027-1000-museum-luzern-luzern-e280769-20.html
END:VEVENT
END:VCALENDAR
