BEGIN:VCALENDAR
VERSION:2.0
PRODID:hinto.net
X-PUBLISHED-TTL:P1W
BEGIN:VEVENT
UID:hinto.net-event_show-5436360
DTSTART:20271230T100000
SEQUENCE:0
CREATED:20241230T121052
LAST-MODIFIED:20241230T121052
TRANSP:OPAQUE
DTEND:20271230T170000
LOCATION:Museum Luzern
SUMMARY:Blickwinkel-Kabinett
CLASS:PUBLIC
DESCRIPTION:
ORGANIZER:
DTSTAMP:20260424T163448
ATTACH:https://www.hinto.ch/de/events/blickwinkel-kabinett-30-12-2027-1000-museum-luzern-luzern-e280769-20.html
END:VEVENT
END:VCALENDAR
