BEGIN:VCALENDAR
VERSION:2.0
PRODID:hinto.net
X-PUBLISHED-TTL:P1W
BEGIN:VEVENT
UID:hinto.net-event_show-4702348
DTSTART:20261001T100000
SEQUENCE:0
CREATED:20240825T111318
LAST-MODIFIED:20240825T111318
TRANSP:OPAQUE
DTEND:20261001T170000
LOCATION:Château de Prangins
SUMMARY:Portrait-Galerie
CLASS:PUBLIC
DESCRIPTION:
ORGANIZER:
DTSTAMP:20260421T082139
ATTACH:https://www.hinto.ch/de/events/portrait-galerie-01-10-2026-1000-chateau-de-prangins-prangins-e280777-20.html
END:VEVENT
END:VCALENDAR
